BEGIN:VCALENDAR
VERSION:2.0
PRODID:-//hacksw/handcal//NONSGML v1.0//EN
BEGIN:VEVENT
DTSTART:20250402T113000
DTEND:20250402T143000
LOCATION:Euratechnologies \n165, Avenue de Bretagne \n59000 LILLE
ORGANIZER;CN=Mathias Depretz:MAILTO:mathias.depretz@univ-lille.fr
SUMMARY:Euratechnologies : Stage & Alternance Dating
DESCRIPTION:Avis aux étudiants à la recherche d'une alternance ou d'un stage dans une startup : Venez rencontrer des startups d'EuraTechnologies qui recherchent des étudiants !\nPréparez votre CV et venez...
URL:https://www.lilagora.fr/en/event/euratechnologies-stage-alternance-dating/2025/04/02/1320
BEGIN:VALARM
TRIGGER:-P0DT1H0M0S
ACTION:DISPLAY
END:VALARM
END:VEVENT
END:VCALENDAR