BEGIN:VCALENDAR
VERSION:2.0
PRODID:-//hacksw/handcal//NONSGML v1.0//EN
BEGIN:VEVENT
DTSTART:20250916T083000
DTEND:20250916T210000
LOCATION:Lille Grand Palais \n1, Boulevard des Cités Unies \n59777 LILLE
ORGANIZER;CN=Mathias Depretz:MAILTO:mathias.depretz@univ-lille.fr
SUMMARY:Human Day
DESCRIPTION:Rendez-vous le mardi 16 septembre 2025 à Lille Grand Palais pour une journée dédiée à la place de l’humain dans les organisations.\nAu programmeUn congrès autour du thème :“L’expérience collaborateur,...
URL:https://www.lilagora.fr/en/event/human-day/2025/09/16/1388
BEGIN:VALARM
TRIGGER:-P0DT1H0M0S
ACTION:DISPLAY
END:VALARM
END:VEVENT
END:VCALENDAR