BEGIN:VCALENDAR
VERSION:2.0
PRODID:-//hacksw/handcal//NONSGML v1.0//EN
BEGIN:VEVENT
DTSTART:20260205T090000
DTEND:20260205T133000
LOCATION:https://pepite-nord.pepitizy.fr/fr/events/28675
ORGANIZER;CN=Alexia Lesage:MAILTO:alexia.lesage@univ-lille.fr
SUMMARY:Comité d'engagement Pépite : Première étape pour devenir étudiant-entrepreneur
DESCRIPTION:\nLancez votre projet : participez au comité d'engagement de Pépite Lille HDF\nVous avez une idée qui pourrait devenir un vrai projet ? Vous vous demandez comment être accompagné pour vous lancer...
URL:https://www.lilagora.fr/en/event/comite-d-engagement-pepite-premiere-etape-pour-devenir-etudiant-entrepreneur/2026/02/05/1500
BEGIN:VALARM
TRIGGER:-P0DT1H0M0S
ACTION:DISPLAY
END:VALARM
END:VEVENT
END:VCALENDAR