BEGIN:VCALENDAR
VERSION:2.0
PRODID:-//hacksw/handcal//NONSGML v1.0//EN
BEGIN:VEVENT
DTSTART:20260430T130000
DTEND:20260430T150000
LOCATION:Campus Pont de Bois - Salle Dodeigne B 1.143 \n3, Rue du Barreau \n59650 VILLENEUVE-D'ASCQ
ORGANIZER;CN=Alexia Lesage:MAILTO:alexia.lesage@univ-lille.fr
SUMMARY:Escape game Entrepreneuriat #4
DESCRIPTION:Et si vous testiez l’entrepreneuriat… en escape game ?\nVous êtes curieux de découvrir l’entrepreneuriat sans savoir par où commencer ?Vous aimez les défis, les énigmes et le travail en équipe ?Et si ...
URL:https://www.lilagora.fr/en/event/escape-game-entrepreneuriat-4/2026/04/30/1598
BEGIN:VALARM
TRIGGER:-P0DT1H0M0S
ACTION:DISPLAY
END:VALARM
END:VEVENT
END:VCALENDAR