BEGIN:VCALENDAR
VERSION:2.0
PRODID:-//hacksw/handcal//NONSGML v1.0//EN
BEGIN:VEVENT
DTSTART:20231117T180000
DTEND:20231119T190000
LOCATION:Lille
ORGANIZER;CN=Mathias Depretz:MAILTO:mathias.depretz@univ-lille.fr
SUMMARY:HIBSTER 2023
DESCRIPTION:HIBSTER : un « sprint » de créativité de 48 heures dédié à l’accélération de projets d’innovation en santé, alimentation, sport et bien-vieillir.\nPour cette nouvelle édition, ce sont 120 étudiants...
URL:https://www.lilagora.fr/en/event/-hibster-2023/2023/11/17/965
BEGIN:VALARM
TRIGGER:-P0DT1H0M0S
ACTION:DISPLAY
END:VALARM
END:VEVENT
END:VCALENDAR