BEGIN:VCALENDAR
VERSION:2.0
PRODID:-//hacksw/handcal//NONSGML v1.0//EN
BEGIN:VEVENT
DTSTART:20260307T100000
DTEND:20260307T170000
LOCATION:Cité des Échanges \n40, Rue Eugène Jacquet \n59700 MARCQ-EN-BARŒUL
ORGANIZER;CN=Alexia Lesage:MAILTO:alexia.lesage@univ-lille.fr
SUMMARY:Salon Studyrama des Etudes Supérieures et de l’Alternance
DESCRIPTION:\nSalon Studyrama : plus de 500 postes en alternance à pourvoir \nVous cherchez une alternance pour la rentrée prochaine ?\nVous avez déjà un projet de formation et il ne vous manque plus que...
URL:https://www.lilagora.fr/fr/event/salon-studyrama-des-etudes-superieures-et-de-l-alternance/2026/03/07/1536
BEGIN:VALARM
TRIGGER:-P0DT1H0M0S
ACTION:DISPLAY
END:VALARM
END:VEVENT
END:VCALENDAR