BEGIN:VCALENDAR
VERSION:2.0
PRODID:-//hacksw/handcal//NONSGML v1.0//EN
BEGIN:VEVENT
DTSTART:20260512T180000
DTEND:20260512T190000
LOCATION:https://us02web.zoom.us/webinar/register/WN_RVQss_RiQf-ib0a709NGGw#/registration
ORGANIZER;CN=Alexia Lesage:MAILTO:alexia.lesage@univ-lille.fr
SUMMARY:Webinaire Pepite x Les Alfredines - Petit budget, grandes idées : la com' visuelle qui marque
DESCRIPTION:Valoriser votre projet grâce à une identité visuelle impactante\nVotre communication visuelle reflète-t-elle vraiment la valeur de votre projet ?Comment capter l’attention avec un budget limité ?Et si...
URL:https://www.lilagora.fr/fr/event/webinaire-pepite-x-les-alfredines-petit-budget-grandes-idees-la-com-visuelle-qui-marque/2026/05/12/1567
BEGIN:VALARM
TRIGGER:-P0DT1H0M0S
ACTION:DISPLAY
END:VALARM
END:VEVENT
END:VCALENDAR