BEGIN:VCALENDAR
VERSION:2.0
PRODID:-//hacksw/handcal//NONSGML v1.0//EN
BEGIN:VEVENT
DTSTART:20230404T170000
DTEND:20230404T190000
LOCATION:Domaine Universitaire du Pont de Bois - AMPHI B7 \n3, Rue du Barreau \n59260 VILLENEUVE-D'ASCQ
ORGANIZER;CN=Mathias Depretz:MAILTO:mathias.depretz@univ-lille.fr
SUMMARY:Master :  tout comprendre à la nouvelle plateforme
DESCRIPTION:Vous souhaitez candidater à un master ? L’Université de Lille organise un live vidéo sur Youtube le 4 avril pour répondre à vos questions sur la nouvelle plateforme lancée par le ministère, ainsi...
URL:https://www.lilagora.fr/fr/event/-master-tout-comprendre-a-la-nouvelle-plateforme/2023/04/04/848
BEGIN:VALARM
TRIGGER:-P0DT1H0M0S
ACTION:DISPLAY
END:VALARM
END:VEVENT
END:VCALENDAR